BEGIN:VCALENDAR
VERSION:2.0
PRODID:-//Aldergrove Alliance Church - ECPv6.7.0//NONSGML v1.0//EN
CALSCALE:GREGORIAN
METHOD:PUBLISH
X-ORIGINAL-URL:https://aldergrovealliance.org
X-WR-CALDESC:Events for Aldergrove Alliance Church
REFRESH-INTERVAL;VALUE=DURATION:PT1H
X-Robots-Tag:noindex
X-PUBLISHED-TTL:PT1H
BEGIN:VTIMEZONE
TZID:America/Vancouver
BEGIN:DAYLIGHT
TZOFFSETFROM:-0800
TZOFFSETTO:-0700
TZNAME:PDT
DTSTART:20260308T100000
END:DAYLIGHT
BEGIN:STANDARD
TZOFFSETFROM:-0700
TZOFFSETTO:-0800
TZNAME:PST
DTSTART:20261101T090000
END:STANDARD
END:VTIMEZONE
BEGIN:VEVENT
DTSTART;TZID=America/Vancouver:20260424T190000
DTEND;TZID=America/Vancouver:20260424T210000
DTSTAMP:20260424T040324
CREATED:20250911T204231Z
LAST-MODIFIED:20250911T204453Z
UID:10000447-1777057200-1777064400@aldergrovealliance.org
SUMMARY:Club 67 & One-Eighty Youth
DESCRIPTION:
URL:https://aldergrovealliance.org/event/club-67-one-eighty-youth-6/
CATEGORIES:Club 67,One-Eighty Youth Ministry
END:VEVENT
BEGIN:VEVENT
DTSTART;TZID=America/Vancouver:20260426T093000
DTEND;TZID=America/Vancouver:20260426T101500
DTSTAMP:20260424T040324
CREATED:20260314T203438Z
LAST-MODIFIED:20260314T203512Z
UID:10000740-1777195800-1777198500@aldergrovealliance.org
SUMMARY:Sunday School
DESCRIPTION:Adults: Room 204 with Kerri Henry and Phil Priebe \nHigh-School: Room 205 with Gayle and Doug Allen \nElementary: Room 102 with Evelyn Sinclair and Rachelle Harron
URL:https://aldergrovealliance.org/event/sunday-school-2/2026-04-26/
CATEGORIES:Adult Ministry,Children's Ministry,Young Adults Ministry
END:VEVENT
BEGIN:VEVENT
DTSTART;TZID=America/Vancouver:20260428T100000
DTEND;TZID=America/Vancouver:20260428T120000
DTSTAMP:20260424T040324
CREATED:20260101T235052Z
LAST-MODIFIED:20260101T235555Z
UID:10000480-1777370400-1777377600@aldergrovealliance.org
SUMMARY:Men's Coffee Group
DESCRIPTION:Every Tuesday morning at the Aldergrove McDonalds
URL:https://aldergrovealliance.org/event/mens-coffee-2/2026-04-28/
CATEGORIES:Adult Ministry
END:VEVENT
BEGIN:VEVENT
DTSTART;TZID=America/Vancouver:20260429T100000
DTEND;TZID=America/Vancouver:20260429T113000
DTSTAMP:20260424T040324
CREATED:20260107T201724Z
LAST-MODIFIED:20260314T203726Z
UID:10001653-1777456800-1777462200@aldergrovealliance.org
SUMMARY:Senior Adult Study
DESCRIPTION:Meeting every week in Room 204 at Aldergrove Alliance Church
URL:https://aldergrovealliance.org/event/senior-adult-study-2/2026-04-29/
CATEGORIES:Adult Ministry
END:VEVENT
BEGIN:VEVENT
DTSTART;TZID=America/Vancouver:20260429T100000
DTEND;TZID=America/Vancouver:20260429T120000
DTSTAMP:20260424T040324
CREATED:20260101T235358Z
LAST-MODIFIED:20260101T235358Z
UID:10000993-1777456800-1777464000@aldergrovealliance.org
SUMMARY:Women of Grace
DESCRIPTION:Meet at Aldergrove Alliance Church in room 201 every second Wednesday.
URL:https://aldergrovealliance.org/event/women-of-grace-3/2026-04-29/
CATEGORIES:Adult Ministry
END:VEVENT
BEGIN:VEVENT
DTSTART;TZID=America/Vancouver:20260429T190000
DTEND;TZID=America/Vancouver:20260429T210000
DTSTAMP:20260424T040324
CREATED:20260101T235653Z
LAST-MODIFIED:20260101T235653Z
UID:10001262-1777489200-1777496400@aldergrovealliance.org
SUMMARY:Revelation Study
DESCRIPTION:Meets weekly in the AAC Lobby
URL:https://aldergrovealliance.org/event/revelation-study/2026-04-29/
CATEGORIES:Adult Ministry
END:VEVENT
END:VCALENDAR