BEGIN:VCALENDAR
VERSION:2.0
PRODID:-//Aldergrove Alliance Church - ECPv6.7.0//NONSGML v1.0//EN
CALSCALE:GREGORIAN
METHOD:PUBLISH
X-ORIGINAL-URL:https://aldergrovealliance.org
X-WR-CALDESC:Events for Aldergrove Alliance Church
REFRESH-INTERVAL;VALUE=DURATION:PT1H
X-Robots-Tag:noindex
X-PUBLISHED-TTL:PT1H
BEGIN:VTIMEZONE
TZID:America/Vancouver
BEGIN:DAYLIGHT
TZOFFSETFROM:-0800
TZOFFSETTO:-0700
TZNAME:PDT
DTSTART:20250309T100000
END:DAYLIGHT
BEGIN:STANDARD
TZOFFSETFROM:-0700
TZOFFSETTO:-0800
TZNAME:PST
DTSTART:20251102T090000
END:STANDARD
END:VTIMEZONE
BEGIN:VEVENT
DTSTART;TZID=America/Vancouver:20250923T100000
DTEND;TZID=America/Vancouver:20250923T120000
DTSTAMP:20260420T031410
CREATED:20250910T180254Z
LAST-MODIFIED:20250910T180254Z
UID:10000377-1758621600-1758628800@aldergrovealliance.org
SUMMARY:Men's Coffee
DESCRIPTION:Every Tuesday morning at the Aldergrove McDonalds
URL:https://aldergrovealliance.org/event/mens-coffee/2025-09-23/
CATEGORIES:Adult Ministry
END:VEVENT
BEGIN:VEVENT
DTSTART;TZID=America/Vancouver:20250923T190000
DTEND;TZID=America/Vancouver:20250923T210000
DTSTAMP:20260420T031410
CREATED:20250910T175742Z
LAST-MODIFIED:20250910T175742Z
UID:10000344-1758654000-1758661200@aldergrovealliance.org
SUMMARY:Women of Grace
DESCRIPTION:Tuesday Evenings in the AAC Lobby
URL:https://aldergrovealliance.org/event/women-of-grace/2025-09-23/
CATEGORIES:Adult Ministry
END:VEVENT
BEGIN:VEVENT
DTSTART;TZID=America/Vancouver:20250923T190000
DTEND;TZID=America/Vancouver:20250923T210000
DTSTAMP:20260420T031411
CREATED:20250910T180024Z
LAST-MODIFIED:20250910T180024Z
UID:10000358-1758654000-1758661200@aldergrovealliance.org
SUMMARY:Men's Shop Talk
DESCRIPTION:Tuesdays at various locations
URL:https://aldergrovealliance.org/event/mens-shop-talk/2025-09-23/
CATEGORIES:Adult Ministry
END:VEVENT
END:VCALENDAR